BEGIN:VCALENDAR
PRODID:-//eluceo/ical//2.0/EN
VERSION:2.0
CALSCALE:GREGORIAN
BEGIN:VEVENT
UID:81f102cb16b4f957f0b28c982583b1a3
DTSTAMP:20260419T123430Z
SUMMARY:Klassifikationsvortrag Roger Nager
DESCRIPTION:
URL:https://rotary-uri.ch/sv/agenda/show/35020
DTSTART;TZID=Europe/Zurich:20131014T120000
DTEND;TZID=Europe/Zurich:20131014T120000
LOCATION:Hotel Höfli
CATEGORIES:Rotary
END:VEVENT
BEGIN:VTIMEZONE
TZID:Europe/Zurich
BEGIN:DAYLIGHT
DTSTART:20131014T120000
TZNAME:CEST
TZOFFSETTO:+0200
TZOFFSETFROM:+0200
END:DAYLIGHT
END:VTIMEZONE
END:VCALENDAR
