BEGIN:VCALENDAR
PRODID:-//eluceo/ical//2.0/EN
VERSION:2.0
CALSCALE:GREGORIAN
BEGIN:VEVENT
UID:ac998c672efc0715b069408af2521357
DTSTAMP:20260424T085358Z
SUMMARY:RC Kleider machen Leute
DESCRIPTION:Sito web: http://www.hotel-hoefli.ch\nRelatore/i: Gerda Walker\
 , Leiterin des Lehrateliers Uri BekleidungsgestaltungSimone Wenger\, Dipl.
  Farb- und Modestilberaterin
URL:https://rotary-uri.ch/it/agenda/show/137313
DTSTART;TZID=Europe/Zurich:20220328T183000
DTEND;TZID=Europe/Zurich:20220328T223000
LOCATION:Hotel Höfli\, Altdorf\, Hellgasse 20\, 6460 Altdorf UR\, Schweiz
CATEGORIES:Rotary
END:VEVENT
BEGIN:VTIMEZONE
TZID:Europe/Zurich
BEGIN:DAYLIGHT
DTSTART:20220328T183000
TZNAME:CEST
TZOFFSETTO:+0200
TZOFFSETFROM:+0200
END:DAYLIGHT
END:VTIMEZONE
END:VCALENDAR
