BEGIN:VCALENDAR
PRODID:-//eluceo/ical//2.0/EN
VERSION:2.0
CALSCALE:GREGORIAN
BEGIN:VEVENT
UID:7398d0da5ab9d22dbb65d3bcdeddbf0f
DTSTAMP:20260425T122343Z
SUMMARY:Wohnen im Alter
DESCRIPTION:Fyrirlesari(ar): Rot. Marco Petruzzi
URL:https://rotary-uri.ch/is/agenda/show/22623
DTSTART;TZID=Europe/Zurich:20120507T120000
DTEND;TZID=Europe/Zurich:20120507T120000
LOCATION:Hotel Höfli
CATEGORIES:Rotary
END:VEVENT
BEGIN:VTIMEZONE
TZID:Europe/Zurich
BEGIN:DAYLIGHT
DTSTART:20120507T120000
TZNAME:CEST
TZOFFSETTO:+0200
TZOFFSETFROM:+0200
END:DAYLIGHT
END:VTIMEZONE
END:VCALENDAR
