BEGIN:VCALENDAR
PRODID:-//eluceo/ical//2.0/EN
VERSION:2.0
CALSCALE:GREGORIAN
BEGIN:VEVENT
UID:ec7fadc4d428bbd101fb92e042a058c9
DTSTAMP:20260425T122139Z
SUMMARY:500 Jahre Tellspiele Altdorf
DESCRIPTION:Fyrirlesari(ar): Volker Hesse\, Regisseur und Träger des Hans-
 Reinhart-Rings
URL:https://rotary-uri.ch/is/agenda/show/22622
DTSTART;TZID=Europe/Zurich:20120430T190000
DTEND;TZID=Europe/Zurich:20120430T190000
LOCATION:Hotel Höfli
CATEGORIES:Rotary
END:VEVENT
BEGIN:VTIMEZONE
TZID:Europe/Zurich
BEGIN:DAYLIGHT
DTSTART:20120430T190000
TZNAME:CEST
TZOFFSETTO:+0200
TZOFFSETFROM:+0200
END:DAYLIGHT
END:VTIMEZONE
END:VCALENDAR
