BEGIN:VCALENDAR
PRODID:-//eluceo/ical//2.0/EN
VERSION:2.0
CALSCALE:GREGORIAN
BEGIN:VEVENT
UID:9d7c6f9e5e3cb1ab8105344232814536
DTSTAMP:20260424T102819Z
SUMMARY:Governorbesuch
DESCRIPTION:
URL:https://rotary-uri.ch/fr/agenda/show/94264
DTSTART;TZID=Europe/Zurich:20190107T120000
DTEND;TZID=Europe/Zurich:20190107T133000
LOCATION:Hotel Höfli\, Altdorf
CATEGORIES:Rotary
END:VEVENT
BEGIN:VTIMEZONE
TZID:Europe/Zurich
BEGIN:STANDARD
DTSTART:20190107T120000
TZNAME:CET
TZOFFSETTO:+0100
TZOFFSETFROM:+0100
END:STANDARD
END:VTIMEZONE
END:VCALENDAR
