BEGIN:VCALENDAR
PRODID:-//eluceo/ical//2.0/EN
VERSION:2.0
CALSCALE:GREGORIAN
BEGIN:VEVENT
UID:a9aefd964a13d267a9b60d6cd178f0ae
DTSTAMP:20260420T131906Z
SUMMARY:Rotary - Minigolf-Turnier mit Insieme
DESCRIPTION:Conférencier(s): Rot. Stefan Flury
URL:https://rotary-uri.ch/fr/agenda/show/92859
DTSTART;TZID=Europe/Zurich:20190504T130000
DTEND;TZID=Europe/Zurich:20190504T170000
LOCATION:Morschach
CATEGORIES:Rotary
END:VEVENT
BEGIN:VTIMEZONE
TZID:Europe/Zurich
BEGIN:DAYLIGHT
DTSTART:20190504T130000
TZNAME:CEST
TZOFFSETTO:+0200
TZOFFSETFROM:+0200
END:DAYLIGHT
END:VTIMEZONE
END:VCALENDAR
