BEGIN:VCALENDAR
PRODID:-//eluceo/ical//2.0/EN
VERSION:2.0
CALSCALE:GREGORIAN
BEGIN:VEVENT
UID:e267042ec815f6f968ed3971592dda4c
DTSTAMP:20260420T131110Z
SUMMARY:Rotary - Fondueplausch
DESCRIPTION:Menu: Vorspeisen und Apéro im Bären\n\nanschl. Fondue im Ochs
 en
URL:https://rotary-uri.ch/fr/agenda/show/92290
DTSTART;TZID=Europe/Zurich:20181228T180000
DTEND;TZID=Europe/Zurich:20181228T235900
LOCATION:Andermatt
CATEGORIES:Rotary
END:VEVENT
BEGIN:VTIMEZONE
TZID:Europe/Zurich
BEGIN:STANDARD
DTSTART:20181228T180000
TZNAME:CET
TZOFFSETTO:+0100
TZOFFSETFROM:+0100
END:STANDARD
END:VTIMEZONE
END:VCALENDAR
