BEGIN:VCALENDAR
PRODID:-//eluceo/ical//2.0/EN
VERSION:2.0
CALSCALE:GREGORIAN
BEGIN:VEVENT
UID:a53f64e4d35e13cf1179e444f2905af8
DTSTAMP:20260424T090459Z
SUMMARY:Sprungbrett Uri
DESCRIPTION:Conférencier(s): Dave Knecht
URL:https://rotary-uri.ch/fr/agenda/show/28392
DTSTART;TZID=Europe/Zurich:20130204T120000
DTEND;TZID=Europe/Zurich:20130204T120000
LOCATION:Hotel Höfli
CATEGORIES:Rotary
END:VEVENT
BEGIN:VTIMEZONE
TZID:Europe/Zurich
BEGIN:STANDARD
DTSTART:20130204T120000
TZNAME:CET
TZOFFSETTO:+0100
TZOFFSETFROM:+0100
END:STANDARD
END:VTIMEZONE
END:VCALENDAR
