BEGIN:VCALENDAR
PRODID:-//eluceo/ical//2.0/EN
VERSION:2.0
CALSCALE:GREGORIAN
BEGIN:VEVENT
UID:a4679fbde08ce416d00eeba99ac245bb
DTSTAMP:20260421T185620Z
SUMMARY:Erfolg für die Standaktion auf dem Unterlehn "Hilfe für die Krieg
 sgeschädigten in der Ukraine"
DESCRIPTION:
URL:https://rotary-uri.ch/fr/agenda/show/140376
DTSTART;TZID=Europe/Zurich:20220528T090000
DTEND;TZID=Europe/Zurich:20220528T130000
LOCATION:Unterlehn in Altdorf
CATEGORIES:Rotary
END:VEVENT
BEGIN:VTIMEZONE
TZID:Europe/Zurich
BEGIN:DAYLIGHT
DTSTART:20220528T090000
TZNAME:CEST
TZOFFSETTO:+0200
TZOFFSETFROM:+0200
END:DAYLIGHT
END:VTIMEZONE
END:VCALENDAR
