BEGIN:VCALENDAR
PRODID:-//eluceo/ical//2.0/EN
VERSION:2.0
CALSCALE:GREGORIAN
BEGIN:VEVENT
UID:eecd5c453df2aca6347949457445a373
DTSTAMP:20260421T112728Z
SUMMARY:Sammelaktion für Vietnamprojekt "Da Nang" 
DESCRIPTION:Unser Club sammelt unter der Leitung unseres Präsidenten Urs M
 arbet Geld\, um das Spital in Da Nang\, Vietnam\, mit den nötigen Instrum
 enten versorgen zu können. Da alle freiwillig und unentgeltlich arbeiten\
 , kommt jede Spende vollumfänglich dem Spital in Da Nang zugute. Der Rota
 ry Club Uri ist am Samstag\, 6. Oktober 2018\, von 10.00 bis 16.00 Uhr auf
  den Unterlehn in Altdorf und freut sich über aufschlussreiche Gespräche
  und jede Spende.\n\nSpendenkonto Medical Da Nang:\nUBS AG\, 6301 Zug\; IB
 AN: CH02 0027 3273 2171 41M1K\; SWIFT (BIC): UBSWCHZH80A zugunsten Da Nang
  Hospital\, Zentralvietnam\nOrador(es): Rot. Urs Marbet
URL:https://rotary-uri.ch/es/agenda/show/92819
DTSTART;TZID=Europe/Zurich:20181006T100000
DTEND;TZID=Europe/Zurich:20181006T160000
LOCATION:Unterlehn\, Altdorf
CATEGORIES:Rotary
END:VEVENT
BEGIN:VTIMEZONE
TZID:Europe/Zurich
BEGIN:DAYLIGHT
DTSTART:20181006T100000
TZNAME:CEST
TZOFFSETTO:+0200
TZOFFSETFROM:+0200
END:DAYLIGHT
END:VTIMEZONE
END:VCALENDAR
