BEGIN:VCALENDAR
PRODID:-//eluceo/ical//2.0/EN
VERSION:2.0
CALSCALE:GREGORIAN
BEGIN:VEVENT
UID:01f116f206a80a5a5881969b20612a16
DTSTAMP:20260425T120255Z
SUMMARY:RYLA
DESCRIPTION:Orador(es): Murielle Sibler
URL:https://rotary-uri.ch/es/agenda/show/67147
DTSTART;TZID=Europe/Zurich:20161107T120000
DTEND;TZID=Europe/Zurich:20161107T133000
LOCATION:Hotel Höfli
CATEGORIES:Rotary
END:VEVENT
BEGIN:VTIMEZONE
TZID:Europe/Zurich
BEGIN:STANDARD
DTSTART:20161107T120000
TZNAME:CET
TZOFFSETTO:+0100
TZOFFSETFROM:+0100
END:STANDARD
END:VTIMEZONE
END:VCALENDAR
