BEGIN:VCALENDAR
PRODID:-//eluceo/ical//2.0/EN
VERSION:2.0
CALSCALE:GREGORIAN
BEGIN:VEVENT
UID:bf576d27d04596dfb1cf7069f754cfa3
DTSTAMP:20260423T220453Z
SUMMARY:Gesundheits-\, Sozial- und Umweltdirektion Uri
DESCRIPTION:Orador(es): Regierungsrätin Barbara Bär
URL:https://rotary-uri.ch/es/agenda/show/28397
DTSTART;TZID=Europe/Zurich:20130311T120000
DTEND;TZID=Europe/Zurich:20130311T120000
LOCATION:Hotel Höfli
CATEGORIES:Rotary
END:VEVENT
BEGIN:VTIMEZONE
TZID:Europe/Zurich
BEGIN:STANDARD
DTSTART:20130311T120000
TZNAME:CET
TZOFFSETTO:+0100
TZOFFSETFROM:+0100
END:STANDARD
END:VTIMEZONE
END:VCALENDAR
