BEGIN:VCALENDAR
PRODID:-//eluceo/ical//2.0/EN
VERSION:2.0
CALSCALE:GREGORIAN
BEGIN:VEVENT
UID:b5e96c580dee7d5e0e6f0c86ceff27b4
DTSTAMP:20260423T165404Z
SUMMARY:Geissentrekking mit Insieme Uri
DESCRIPTION:
URL:https://rotary-uri.ch/es/agenda/show/131223
DTSTART;TZID=Europe/Zurich:20210918T133000
DTEND;TZID=Europe/Zurich:20210918T163000
LOCATION:röm.-kath. Pfarreizentrum Erstfeld (Kirchstrasse 10)
CATEGORIES:Rotary
END:VEVENT
BEGIN:VTIMEZONE
TZID:Europe/Zurich
BEGIN:DAYLIGHT
DTSTART:20210918T133000
TZNAME:CEST
TZOFFSETTO:+0200
TZOFFSETFROM:+0200
END:DAYLIGHT
END:VTIMEZONE
END:VCALENDAR
