BEGIN:VCALENDAR
PRODID:-//eluceo/ical//2.0/EN
VERSION:2.0
CALSCALE:GREGORIAN
BEGIN:VEVENT
UID:0cf1e6b79cfbdffa9d07ccc41cb8b82a
DTSTAMP:20260422T190353Z
SUMMARY:Das Gesundheitswesen wird immer teurer .. aber werden wir auch ges
 ünder?
DESCRIPTION:Speaker(s): Georg Portmann\, CEO CSS Versicherung
URL:https://rotary-uri.ch/en/agenda/show/20550
DTSTART;TZID=Europe/Zurich:20120213T120000
DTEND;TZID=Europe/Zurich:20120213T120000
LOCATION:Hotel Höfli
CATEGORIES:Rotary
END:VEVENT
BEGIN:VTIMEZONE
TZID:Europe/Zurich
BEGIN:STANDARD
DTSTART:20120213T120000
TZNAME:CET
TZOFFSETTO:+0100
TZOFFSETFROM:+0100
END:STANDARD
END:VTIMEZONE
END:VCALENDAR
