BEGIN:VCALENDAR
PRODID:-//eluceo/ical//2.0/EN
VERSION:2.0
CALSCALE:GREGORIAN
BEGIN:VEVENT
UID:f9b93b6f5ca342493a9f3f8afcbaa654
DTSTAMP:20260419T145744Z
SUMMARY:Feierabendapero
DESCRIPTION:
URL:https://rotary-uri.ch/de/agenda/show/36983
DTSTART;TZID=Europe/Zurich:20130327T180000
DTEND;TZID=Europe/Zurich:20130327T180000
LOCATION:Hotel Löwen
CATEGORIES:Rotary
END:VEVENT
BEGIN:VTIMEZONE
TZID:Europe/Zurich
BEGIN:STANDARD
DTSTART:20130327T180000
TZNAME:CET
TZOFFSETTO:+0100
TZOFFSETFROM:+0100
END:STANDARD
END:VTIMEZONE
END:VCALENDAR
